BEGIN:VCALENDAR
VERSION:2.0
PRODID:-//NADI Belimbing Kanan - ECPv6.15.20//NONSGML v1.0//EN
CALSCALE:GREGORIAN
METHOD:PUBLISH
X-WR-CALNAME:NADI Belimbing Kanan
X-ORIGINAL-URL:https://belimbingkanan.nadi.my
X-WR-CALDESC:Events for NADI Belimbing Kanan
REFRESH-INTERVAL;VALUE=DURATION:PT1H
X-Robots-Tag:noindex
X-PUBLISHED-TTL:PT1H
BEGIN:VTIMEZONE
TZID:Asia/Kuala_Lumpur
BEGIN:STANDARD
TZOFFSETFROM:+0800
TZOFFSETTO:+0800
TZNAME:+08
DTSTART:20240101T000000
END:STANDARD
END:VTIMEZONE
BEGIN:VEVENT
DTSTART;TZID=Asia/Kuala_Lumpur:20250804T090000
DTEND;TZID=Asia/Kuala_Lumpur:20250804T130000
DTSTAMP:20260424T230554
CREATED:20250728T094005Z
LAST-MODIFIED:20250728T094005Z
UID:3815-1754298000-1754312400@belimbingkanan.nadi.my
SUMMARY:kempen internet selamat SK Lamdin
DESCRIPTION:
URL:https://belimbingkanan.nadi.my/event/kempen-internet-selamat-sk-lamdin/
END:VEVENT
END:VCALENDAR