BEGIN:VCALENDAR
VERSION:2.0
PRODID:-//NADI Belimbing Kanan - ECPv6.15.20//NONSGML v1.0//EN
CALSCALE:GREGORIAN
METHOD:PUBLISH
X-WR-CALNAME:NADI Belimbing Kanan
X-ORIGINAL-URL:https://belimbingkanan.nadi.my
X-WR-CALDESC:Events for NADI Belimbing Kanan
REFRESH-INTERVAL;VALUE=DURATION:PT1H
X-Robots-Tag:noindex
X-PUBLISHED-TTL:PT1H
BEGIN:VTIMEZONE
TZID:Asia/Kuala_Lumpur
BEGIN:STANDARD
TZOFFSETFROM:+0800
TZOFFSETTO:+0800
TZNAME:+08
DTSTART:20250101T000000
END:STANDARD
END:VTIMEZONE
BEGIN:VEVENT
DTSTART;TZID=Asia/Kuala_Lumpur:20260219T080000
DTEND;TZID=Asia/Kuala_Lumpur:20260219T170000
DTSTAMP:20260420T144041
CREATED:20260216T020339Z
LAST-MODIFIED:20260216T020339Z
UID:4228-1771488000-1771520400@belimbingkanan.nadi.my
SUMMARY:Cuti awal ramadhan
DESCRIPTION:
URL:https://belimbingkanan.nadi.my/event/cuti-awal-ramadhan-3/
END:VEVENT
END:VCALENDAR